BEGIN:VCALENDAR
VERSION:2.0
PRODID:-//Columbia Chamber of Commerce - ECPv4.6.23//NONSGML v1.0//EN
CALSCALE:GREGORIAN
METHOD:PUBLISH
X-WR-CALNAME:Columbia Chamber of Commerce
X-ORIGINAL-URL:https://columbiailchamber.com
X-WR-CALDESC:Events for Columbia Chamber of Commerce
BEGIN:VEVENT
DTSTART;TZID=America/Chicago:20251119T120000
DTEND;TZID=America/Chicago:20251119T130000
DTSTAMP:20260422T081134
CREATED:20251113T184321Z
LAST-MODIFIED:20251113T184407Z
UID:783-1763553600-1763557200@columbiailchamber.com
SUMMARY:Chamber Meeting - Nov. 19th
DESCRIPTION:There will be a regular Columbia Chamber of Commerce meeting on Wednesday\, November 19\, 2025\, noon-1pm at The Falls. \nAdditional information will be sent to members via email and regular mail.  RSVPs are required. \nCost:  $20 per person. \n
URL:https://columbiailchamber.com/calendar-event/chamber-mtg-nov-19/
CATEGORIES:Meetings
END:VEVENT
END:VCALENDAR